BEGIN:VCALENDAR
VERSION:2.0
PRODID:-//DIGITAL FACTORY//EVENTS MAKER V1.6.14//EN
CALSCALE:GREGORIAN
BEGIN:VEVENT
DTEND:20250118T030000Z
UID:69e8ba377cd3d
DTSTAMP:20260422T120823Z
LOCATION:Barkin Barley 1528 CT-12, Gales Ferry, CT, 06335, US
DESCRIPTION:
URL;VALUE=URI:https://barkinbarley.com/events/event/trivia-night/
SUMMARY:Trivia Night
DTSTART:20250117T233000Z
RRULE:FREQ=WEEKLY;INTERVAL=1;BYDAY=FR;UNTIL=20270117T000000Z;
END:VEVENT
END:VCALENDAR
